BEGIN:VCALENDAR
VERSION:2.0
PRODID:-//ChamberMaster//Event Calendar 2.0//EN
METHOD:PUBLISH
X-PUBLISHED-TTL:P3D
REFRESH-INTERVAL:P3D
CALSCALE:GREGORIAN
BEGIN:VEVENT
DTSTART:20140902T123000Z
DTEND:20140902T133000Z
X-MICROSOFT-CDO-ALLDAYEVENT:FALSE
SUMMARY:Energy Committee Call
DESCRIPTION:Please join us for a call to discuss the upcoming mission to the ASEAN Energy Minister Meeting in Vientiane\, Laos from September 22-September 24\, 2014.\n\n \n\nDuring the call we will discuss \n\n1. mission logistics\n\n2. mission themes and specific bilateral objectives\n\n3. other questions/concerns
X-ALT-DESC;FMTTYPE=text/html:Please join us for a call to discuss the upcoming mission to the ASEAN Energy Minister Meeting in Vientiane\, Laos from September 22-September 24\, 2014.<br />\n&nbsp\;<br />\nDuring the call we will discuss&nbsp\;<br />\n1. mission logistics<br />\n2. mission themes and specific bilateral objectives<br />\n3. other questions/concerns<br />\n<br />\n&nbsp\;
LOCATION:
UID:e.9078.1244
SEQUENCE:3
DTSTAMP:20260420T052354Z
URL:http://memberzone.usasean.org/events/details/energy-committee-call-09-02-2014-1244
END:VEVENT

END:VCALENDAR
