BEGIN:VCALENDAR
VERSION:2.0
PRODID:-//ChamberMaster//Event Calendar 2.0//EN
METHOD:PUBLISH
X-PUBLISHED-TTL:P3D
REFRESH-INTERVAL:P3D
CALSCALE:GREGORIAN
BEGIN:VEVENT
DTSTART:20220519T010000Z
DTEND:20220519T023000Z
X-MICROSOFT-CDO-ALLDAYEVENT:FALSE
SUMMARY:E-Commerce Sub-Committee Call with Dr. Deborah Elms\, Asian Trade Centre
DESCRIPTION:
X-ALT-DESC;FMTTYPE=text/html:
LOCATION:
UID:e.9078.8771
SEQUENCE:3
DTSTAMP:20260422T154935Z
URL:http://memberzone.usasean.org/events/details/e-commerce-sub-committee-call-with-dr-deborah-elms-asian-trade-centre-8771
END:VEVENT

END:VCALENDAR
