BEGIN:VCALENDAR
VERSION:2.0
PRODID:-//ChamberMaster//Event Calendar 2.0//EN
METHOD:PUBLISH
X-PUBLISHED-TTL:P3D
REFRESH-INTERVAL:P3D
CALSCALE:GREGORIAN
BEGIN:VEVENT
DTSTART:20210818T010000Z
DTEND:20210818T020000Z
X-MICROSOFT-CDO-ALLDAYEVENT:FALSE
SUMMARY:DPCF - 5G and Digital Infrastructure Session Second Planning Call
DESCRIPTION:The Council is pleased to invite you to the Second Planning Call for the Digital Policy Consultative Forum (DPCF) - 5G and Digital Infrastructure Session.
X-ALT-DESC;FMTTYPE=text/html:The Council is pleased to invite you to the Second Planning Call for the Digital Policy Consultative Forum (DPCF) - 5G and Digital Infrastructure Session.&nbsp\;
LOCATION:Virtual
UID:e.9078.8538
SEQUENCE:3
DTSTAMP:20260419T155645Z
URL:http://memberzone.usasean.org/events/details/dpcf-5g-and-digital-infrastructure-session-second-planning-call-8538
END:VEVENT

END:VCALENDAR
