BEGIN:VCALENDAR
VERSION:2.0
PRODID:-//ChamberMaster//Event Calendar 2.0//EN
METHOD:PUBLISH
X-PUBLISHED-TTL:P3D
REFRESH-INTERVAL:P3D
CALSCALE:GREGORIAN
BEGIN:VEVENT
DTSTART:20210716T010000Z
DTEND:20210716T020000Z
X-MICROSOFT-CDO-ALLDAYEVENT:FALSE
SUMMARY:DPCF - 5G and Digital Infrastructure Session First Planning Call
DESCRIPTION:The Council is pleased to invite you to the First Planning Call for the Digital Policy Consultative Forum (DPCF) - 5G Session. The Council is organizing the second DPCF session of 2021 to focus on 5G\, following the first one on Data Governance which was held on June 14.
X-ALT-DESC;FMTTYPE=text/html:The Council is pleased to invite you to the First Planning Call for the Digital Policy Consultative Forum (DPCF) - 5G Session. The Council is organizing the second DPCF session of 2021 to focus on 5G\, following the first one on Data Governance which was held on June 14.&nbsp\;
LOCATION:Virtual
UID:e.9078.8509
SEQUENCE:3
DTSTAMP:20260419T173918Z
URL:http://memberzone.usasean.org/events/details/dpcf-5g-and-digital-infrastructure-session-first-planning-call-8509
END:VEVENT

END:VCALENDAR
