BEGIN:VCALENDAR
VERSION:2.0
PRODID:-//ChamberMaster//Event Calendar 2.0//EN
METHOD:PUBLISH
X-PUBLISHED-TTL:P3D
REFRESH-INTERVAL:P3D
CALSCALE:GREGORIAN
BEGIN:VEVENT
DTSTART:20130904T180000Z
DTEND:20130904T190000Z
X-MICROSOFT-CDO-ALLDAYEVENT:FALSE
SUMMARY:Discussion with US Ambassador Designate to Malaysia: Hon. Joseph Y. Yun
DESCRIPTION:Discussion with The Honorable Joseph Y. Yun\, U.S. Ambassador Designate to Malaysia\n\n\n\nJoseph Y. Yun was confirmed by the U.S. Senate on August 1\, 2013 to be Ambassador Extraordinary and Plenipotentiary of the United States of America to Malaysia.\n\n\n\nBio - Joseph Y. Yun\n\nMr. Yun was appointed the Principal Deputy Assistant Secretary in the Bureau of East Asian and Pacific Affairs\, the U.S. Department of State in 2010\, Mr. Yun served as Acting Assistant Secretary in the Bureau of East Asian and Pacific Affairs until Jiuly 12\, 2013. Mr. Yun is a career member of the Senior Foreign Service. His overseas assignments have been in South Korea\, Thailand\, France\, Indonesia and Hong Kong. Before joining the U.S. Foreign Service in 1985 Mr. Yun was senior economist for Data Resources\, Inc.
X-ALT-DESC;FMTTYPE=text/html:Discussion with The Honorable Joseph Y. Yun\, U.S. Ambassador Designate to Malaysia<br />\n<br />\n<span style="color:#252525\;"><span style="font-family:arial\,sans-serif\;"><span style="font-size:12.0pt\;">Joseph Y. Yun was confirmed by the U.S. Senate on August 1\, 2013 to be Ambassador Extraordinary and Plenipotentiary of the United States of America to Malaysia.<br />\n<br />\n<strong>Bio - Joseph Y. Yun</strong><br />\nMr. Yun was&nbsp\;appointed the Principal Deputy Assistant Secretary in the Bureau of East Asian and Pacific Affairs\, the U.S. Department of State in 2010\, Mr. Yun served as Acting Assistant Secretary in the Bureau of East Asian and Pacific Affairs until Jiuly 12\, 2013. Mr. Yun is a career member of the Senior Foreign Service. His overseas assignments have been in South Korea\, Thailand\, France\, Indonesia and Hong Kong. Before joining the U.S. Foreign Service in 1985 Mr. Yun was senior economist for Data Resources\, Inc.</span></span></span>
LOCATION:US-ASEAN Business Council Offices 1101 17th Street NW Suite 411 Washington\, D.C.
UID:e.9078.896
SEQUENCE:3
DTSTAMP:20260421T173914Z
URL:http://memberzone.usasean.org/events/details/discussion-with-us-ambassador-designate-to-malaysia-hon-joseph-y-yun-09-04-2013-896
END:VEVENT

END:VCALENDAR
