BEGIN:VCALENDAR
VERSION:2.0
PRODID:-//ChamberMaster//Event Calendar 2.0//EN
METHOD:PUBLISH
X-PUBLISHED-TTL:P3D
REFRESH-INTERVAL:P3D
CALSCALE:GREGORIAN
BEGIN:VEVENT
DTSTART;VALUE=DATE:20120723
DTEND;VALUE=DATE:20120724
TRANSP:TRANSPARENT
X-MICROSOFT-CDO-ALLDAYEVENT:TRUE
SUMMARY:Discussion with Indonesian E-Commerce Delegation - Jul 23 2012
DESCRIPTION:
X-ALT-DESC;FMTTYPE=text/html:
LOCATION:
UID:e.9078.371
SEQUENCE:3
DTSTAMP:20260424T233408Z
URL:http://memberzone.usasean.org/events/details/discussion-with-indonesian-e-commerce-delegation-jul-23-2012-07-23-2012-371
END:VEVENT

END:VCALENDAR
