BEGIN:VCALENDAR
VERSION:2.0
PRODID:-//ChamberMaster//Event Calendar 2.0//EN
METHOD:PUBLISH
X-PUBLISHED-TTL:P3D
REFRESH-INTERVAL:P3D
CALSCALE:GREGORIAN
BEGIN:VEVENT
DTSTART:20140415T120000Z
DTEND:20140415T130000Z
X-MICROSOFT-CDO-ALLDAYEVENT:FALSE
SUMMARY:Discussion with Ian Clements ASEAN and Burma Desk Commerce
DESCRIPTION:Meeting with Ian Clements\n\nASEAN and Burma Desk\n\nDOC
X-ALT-DESC;FMTTYPE=text/html:Meeting with Ian Clements<br />\nASEAN and Burma Desk<br />\nDOC
LOCATION:1101 17th Street NW Suite 411 Washington\, D.C. 20010
UID:e.9078.1114
SEQUENCE:3
DTSTAMP:20260420T152746Z
URL:http://memberzone.usasean.org/events/details/discussion-with-ian-clements-asean-and-burma-desk-commerce-04-15-2014-1114
END:VEVENT

END:VCALENDAR
