BEGIN:VCALENDAR
VERSION:2.0
PRODID:-//ChamberMaster//Event Calendar 2.0//EN
METHOD:PUBLISH
X-PUBLISHED-TTL:P3D
REFRESH-INTERVAL:P3D
CALSCALE:GREGORIAN
BEGIN:VEVENT
DTSTART:20121213T140000Z
DTEND:20121213T160000Z
X-MICROSOFT-CDO-ALLDAYEVENT:FALSE
SUMMARY:Discussion with Dr. David Dyer / Tim Moore\, MARKET Project\, on next steps after 2nd AMAF PP Dialogue
DESCRIPTION:A discussion with Dr David Dyer\, Chief of Party\, and Timothy Moore\, Deputy Chief of Party of the MARKET Project focusing on providing updates and opportunity to brainstorm / discuss ideas following the 2nd ASEAN Public Private Sector Dialogue that took place on September 27\, 2012 in Vientiane\, Laos.
X-ALT-DESC;FMTTYPE=text/html:<span style="font-size: 10pt"><span style="font-family: arial\, sans-serif">A&nbsp\;discussion with <u>Dr David Dyer\, Chief of Party</u>\, and <u>Timothy Moore\, Deputy Chief of Party</u> of the MARKET Project focusing on <strong><u>providing updates and opportunity to brainstorm / discuss ideas following the 2<sup>nd</sup> ASEAN Public Private Sector Dialogue</u></strong> that took place on September 27\, 2012 in Vientiane\, Laos.&nbsp\;&nbsp\;&nbsp\;</span></span><br />\n
LOCATION:Singapore - Venue TBD
UID:e.9078.649
SEQUENCE:3
DTSTAMP:20260424T143032Z
URL:http://memberzone.usasean.org/events/details/discussion-with-dr-david-dyer-tim-moore-market-project-on-next-steps-after-2nd-amaf-pp-dialogue-12-13-2012-649
END:VEVENT

END:VCALENDAR
