BEGIN:VCALENDAR
VERSION:2.0
PRODID:-//ChamberMaster//Event Calendar 2.0//EN
METHOD:PUBLISH
X-PUBLISHED-TTL:P3D
REFRESH-INTERVAL:P3D
CALSCALE:GREGORIAN
BEGIN:VEVENT
DTSTART:20131115T000000Z
DTEND:20131115T010000Z
X-MICROSOFT-CDO-ALLDAYEVENT:FALSE
SUMMARY:Discussion on Organizing an ASEAN Day on Wall Street
DESCRIPTION:Conference call to discuss organizing an ASEAN Day on Wall Street.
X-ALT-DESC;FMTTYPE=text/html:Conference call to discuss organizing an ASEAN Day on Wall Street.
LOCATION:Toll-free dial-in number (U.S. and Canada): (877) 505-1427 International dial-in number: (281) 319-9194 Conference code: 5787739115
UID:e.9078.977
SEQUENCE:3
DTSTAMP:20260421T093406Z
URL:http://memberzone.usasean.org/events/details/discussion-on-organizing-an-asean-day-on-wall-street-11-14-2013-977
END:VEVENT

END:VCALENDAR
