BEGIN:VCALENDAR
VERSION:2.0
PRODID:-//ChamberMaster//Event Calendar 2.0//EN
METHOD:PUBLISH
X-PUBLISHED-TTL:P3D
REFRESH-INTERVAL:P3D
CALSCALE:GREGORIAN
BEGIN:VEVENT
DTSTART;VALUE=DATE:20110919
DTEND;VALUE=DATE:20110920
TRANSP:TRANSPARENT
X-MICROSOFT-CDO-ALLDAYEVENT:TRUE
SUMMARY:Dinner with President Aquino of the Philippines - Sep 19 2011
DESCRIPTION:
X-ALT-DESC;FMTTYPE=text/html:
LOCATION:
UID:e.9078.365
SEQUENCE:3
DTSTAMP:20260426T012812Z
URL:http://memberzone.usasean.org/events/details/dinner-with-president-aquino-of-the-philippines-sep-19-2011-09-19-2011-365
END:VEVENT

END:VCALENDAR
