BEGIN:VCALENDAR
VERSION:2.0
PRODID:-//ChamberMaster//Event Calendar 2.0//EN
METHOD:PUBLISH
X-PUBLISHED-TTL:P3D
REFRESH-INTERVAL:P3D
CALSCALE:GREGORIAN
BEGIN:VEVENT
DTSTART;VALUE=DATE:20111024
DTEND;VALUE=DATE:20111025
TRANSP:TRANSPARENT
X-MICROSOFT-CDO-ALLDAYEVENT:TRUE
SUMMARY:Dinner Hosted by the Philippine Department of Science and Technology - Oct 24 2011
DESCRIPTION:
X-ALT-DESC;FMTTYPE=text/html:
LOCATION:
UID:e.9078.364
SEQUENCE:3
DTSTAMP:20260425T234831Z
URL:http://memberzone.usasean.org/events/details/dinner-hosted-by-the-philippine-department-of-science-and-technology-oct-24-2011-10-24-2011-364
END:VEVENT

END:VCALENDAR
