BEGIN:VCALENDAR
VERSION:2.0
PRODID:-//ChamberMaster//Event Calendar 2.0//EN
METHOD:PUBLISH
X-PUBLISHED-TTL:P3D
REFRESH-INTERVAL:P3D
CALSCALE:GREGORIAN
BEGIN:VEVENT
DTSTART:20210813T000000Z
DTEND:20210813T010000Z
X-MICROSOFT-CDO-ALLDAYEVENT:FALSE
SUMMARY:Digital Tax Working Group Q3 2021 Strategy Call
DESCRIPTION:Digital Tax Working Group Q3 2021 Strategy Call
X-ALT-DESC;FMTTYPE=text/html:Digital Tax Working Group Q3 2021 Strategy Call
LOCATION:Virtual
UID:e.9078.8537
SEQUENCE:3
DTSTAMP:20260419T155845Z
URL:http://memberzone.usasean.org/events/details/digital-tax-working-group-q3-2021-strategy-call-8537
END:VEVENT

END:VCALENDAR
