BEGIN:VCALENDAR
VERSION:2.0
PRODID:-//ChamberMaster//Event Calendar 2.0//EN
METHOD:PUBLISH
X-PUBLISHED-TTL:P3D
REFRESH-INTERVAL:P3D
CALSCALE:GREGORIAN
BEGIN:VEVENT
DTSTART:20210325T013000Z
DTEND:20210325T023000Z
X-MICROSOFT-CDO-ALLDAYEVENT:FALSE
SUMMARY:Digital Tax Working Group March 2021 Strategy Call
DESCRIPTION:The Council would like to invite you to join our March Digital Tax Working Group March 2021 Strategy Call. During the call\, we intend to review our finalized principles document\, our working Digital Tax priority market tracker\, and potential advocacy strategies tailored for specific markets.
X-ALT-DESC;FMTTYPE=text/html:<span style="color: rgb(0\, 0\, 0)\; font-family: &quot\;Times New Roman&quot\;\; font-size: medium\;">The Council would like to invite you to join our March Digital Tax Working Group March 2021 Strategy Call. During the call\, we intend to review our finalized principles document\, our working Digital Tax priority market tracker\, and potential advocacy strategies tailored for specific markets.</span>
LOCATION:
UID:e.9078.8430
SEQUENCE:3
DTSTAMP:20260420T000734Z
URL:http://memberzone.usasean.org/events/details/digital-tax-working-group-march-2021-strategy-call-8430
END:VEVENT

END:VCALENDAR
