BEGIN:VCALENDAR
VERSION:2.0
PRODID:-//ChamberMaster//Event Calendar 2.0//EN
METHOD:PUBLISH
X-PUBLISHED-TTL:P3D
REFRESH-INTERVAL:P3D
CALSCALE:GREGORIAN
BEGIN:VEVENT
DTSTART:20210204T013000Z
DTEND:20210204T023000Z
X-MICROSOFT-CDO-ALLDAYEVENT:FALSE
SUMMARY:Digital Tax Working Group February 2021 Strategy Call
DESCRIPTION:The Council would like to invite members to our upcoming strategy call to discuss digital tax developments and potential advocacy paths forward in ASEAN.
X-ALT-DESC;FMTTYPE=text/html:<span style="font-family:arial\;">The Council would like to invite members to our upcoming strategy call to discuss digital tax developments and potential advocacy paths forward in ASEAN.</span>
LOCATION:
UID:e.9078.8379
SEQUENCE:3
DTSTAMP:20260420T033436Z
URL:http://memberzone.usasean.org/events/details/digital-tax-working-group-february-strategy-call-8379
END:VEVENT

END:VCALENDAR
