BEGIN:VCALENDAR
VERSION:2.0
PRODID:-//ChamberMaster//Event Calendar 2.0//EN
METHOD:PUBLISH
X-PUBLISHED-TTL:P3D
REFRESH-INTERVAL:P3D
CALSCALE:GREGORIAN
BEGIN:VEVENT
DTSTART:20230509T030000Z
DTEND:20230509T040000Z
X-MICROSOFT-CDO-ALLDAYEVENT:FALSE
SUMMARY:Dialogue with Congressional Staff Delegation for House Ways & Means and Senate Finance Committee
DESCRIPTION:Dialogue with Congressional Staff Delegation for House Ways & Means and Senate Finance Committee
X-ALT-DESC;FMTTYPE=text/html:<strong>Dialogue with Congressional Staff Delegation for House Ways &amp\; Means and Senate Finance Committee</strong>
LOCATION:Venue to be provided to confirmed participants
UID:e.9078.9023
SEQUENCE:3
DTSTAMP:20260421T100753Z
URL:http://memberzone.usasean.org/events/details/dialogue-with-congressional-staff-delegation-for-house-ways-means-and-senate-finance-committee-9023
END:VEVENT

END:VCALENDAR
