BEGIN:VCALENDAR
VERSION:2.0
PRODID:-//ChamberMaster//Event Calendar 2.0//EN
METHOD:PUBLISH
X-PUBLISHED-TTL:P3D
REFRESH-INTERVAL:P3D
CALSCALE:GREGORIAN
BEGIN:VEVENT
DTSTART:20220909T030000Z
DTEND:20220909T040000Z
X-MICROSOFT-CDO-ALLDAYEVENT:FALSE
SUMMARY:Dialogue on U.S. Midterm Elections: Implications on Tech & Asia Policy
DESCRIPTION:Discussion on U.S. Midterm Elections & Implications on Tech and Asia Policy
X-ALT-DESC;FMTTYPE=text/html:Discussion on U.S. Midterm Elections &amp\; Implications on Tech and Asia Policy
LOCATION:1880 1 Nanson Road\, Intercontinental Robertson Quay 238909 Level 3
UID:e.9078.8853
SEQUENCE:3
DTSTAMP:20260421T222417Z
URL:http://memberzone.usasean.org/events/details/dialogue-on-u-s-midterm-elections-implications-on-tech-asia-policy-8853
END:VEVENT

END:VCALENDAR
