BEGIN:VCALENDAR
VERSION:2.0
PRODID:-//ChamberMaster//Event Calendar 2.0//EN
METHOD:PUBLISH
X-PUBLISHED-TTL:P3D
REFRESH-INTERVAL:P3D
CALSCALE:GREGORIAN
BEGIN:VEVENT
DTSTART:20141009T133000Z
DTEND:20141009T143000Z
X-MICROSOFT-CDO-ALLDAYEVENT:FALSE
SUMMARY:Defense & Security Roundtable - Defense Procurements Trends in ASEAN
DESCRIPTION:Please join the Defense & Security Committee and ASEAN Defense Attaches for a discussion on "Defense Procurement Trends in ASEAN." The discussion will be lead by Mr. Stephen Ganyard\, Principal at Avascent.  Mr. Steve Ganyard previously served as Deputy Assistant Secretary of State in the Bureau of Political-Military Affairs. To access his biography\, please click here.
X-ALT-DESC;FMTTYPE=text/html:<span style="font-size:16px\;"><span style="font-family: arial\;">Please join the Defense &amp\; Security Committee and ASEAN Defense Attaches for a discussion on "Defense Procurement Trends in ASEAN." The discussion will be lead by Mr. Stephen Ganyard\, Principal at Avascent. &nbsp\;Mr. Steve Ganyard previously served as Deputy Assistant Secretary of State in the Bureau of Political-Military Affairs. <a href="http://www.avascentinternational.com/about/Leadership/Stephan-T-Ganyard.aspx">To access his biography\, please click here.</a></span></span><br>\n<br>\n<br>\n&nbsp\;
LOCATION:US-ASEAN Business Council 1101 17th Street N.W.\, Suite 411 Washington D.C.
UID:e.9078.1260
SEQUENCE:3
DTSTAMP:20260420T034742Z
URL:http://memberzone.usasean.org/events/details/defense-security-roundtable-defense-procurements-trends-in-asean-10-09-2014-1260
END:VEVENT

END:VCALENDAR
