BEGIN:VCALENDAR
VERSION:2.0
PRODID:-//ChamberMaster//Event Calendar 2.0//EN
METHOD:PUBLISH
X-PUBLISHED-TTL:P3D
REFRESH-INTERVAL:P3D
CALSCALE:GREGORIAN
BEGIN:VEVENT
DTSTART:20191126T150000Z
DTEND:20191126T160000Z
X-MICROSOFT-CDO-ALLDAYEVENT:FALSE
SUMMARY:Defense & Security Briefing with Assistant Secretary of Defense Randall Schriver
DESCRIPTION:The roundtable discussion will occur soon after Assistant Secretary Schriver's return from the ASEAN Defense Ministers' Meeting (ADMM) Plus in Bangkok\, Thailand from November 16-19. This will also be a unique opportunity for members to hear firsthand of the developments and nuances in the Trump Administration's military policy towards the Indo-Pacific\, and the challenges and opportunities that lie ahead.
X-ALT-DESC;FMTTYPE=text/html:<span style="font-family:arial\,sans-serif\;"><span style="font-size:12.0pt\;">The roundtable discussion will occur soon after Assistant Secretary Schriver&#39\;s return from the ASEAN Defense Ministers&#39\; Meeting (ADMM) Plus in Bangkok\, Thailand from November 16-19. This will also be a unique opportunity for members to hear firsthand of the developments and nuances in the Trump Administration&#39\;s military policy towards the Indo-Pacific\, and the challenges and opportunities that lie ahead.</span></span><br />\n&nbsp\;
LOCATION:US-ASEAN Business Council 1101 17th Street NW\, Suite 411 Washington\, DC
UID:e.9078.8080
SEQUENCE:3
DTSTAMP:20260424T202003Z
URL:http://memberzone.usasean.org/events/details/defense-security-briefing-with-assistant-secretary-of-defense-randall-schriver-8080
END:VEVENT

END:VCALENDAR
