BEGIN:VCALENDAR
VERSION:2.0
PRODID:-//ChamberMaster//Event Calendar 2.0//EN
METHOD:PUBLISH
X-PUBLISHED-TTL:P3D
REFRESH-INTERVAL:P3D
CALSCALE:GREGORIAN
BEGIN:VEVENT
DTSTART:20210129T190000Z
DTEND:20210129T200000Z
X-MICROSOFT-CDO-ALLDAYEVENT:FALSE
SUMMARY:Defense Attaches' Speaker Series with IMSG
DESCRIPTION:
X-ALT-DESC;FMTTYPE=text/html:
LOCATION:
UID:e.9078.8378
SEQUENCE:3
DTSTAMP:20260420T033416Z
URL:http://memberzone.usasean.org/events/details/defense-attaches-speaker-series-with-imsg-8378
END:VEVENT

END:VCALENDAR
