BEGIN:VCALENDAR
VERSION:2.0
PRODID:-//ChamberMaster//Event Calendar 2.0//EN
METHOD:PUBLISH
X-PUBLISHED-TTL:P3D
REFRESH-INTERVAL:P3D
CALSCALE:GREGORIAN
BEGIN:VEVENT
DTSTART:20210323T010000Z
DTEND:20210323T020000Z
X-MICROSOFT-CDO-ALLDAYEVENT:FALSE
SUMMARY:Data Governance Subcommittee Q1 Call
DESCRIPTION:Q1 Meeting of the Data Governance Subcommittee
X-ALT-DESC;FMTTYPE=text/html:Q1 Meeting of the Data Governance Subcommittee&nbsp\;
LOCATION:
UID:e.9078.8412
SEQUENCE:3
DTSTAMP:20260420T000703Z
URL:http://memberzone.usasean.org/events/details/data-governance-subcommittee-q1-call-8412
END:VEVENT

END:VCALENDAR
