BEGIN:VCALENDAR
VERSION:2.0
PRODID:-//ChamberMaster//Event Calendar 2.0//EN
METHOD:PUBLISH
X-PUBLISHED-TTL:P3D
REFRESH-INTERVAL:P3D
CALSCALE:GREGORIAN
BEGIN:VEVENT
DTSTART:20200221T020000Z
DTEND:20200221T030000Z
X-MICROSOFT-CDO-ALLDAYEVENT:FALSE
SUMMARY:Data Governance Sub-Committee Meeting - Feb 20\, 2020
DESCRIPTION:
X-ALT-DESC;FMTTYPE=text/html:
LOCATION:
UID:e.9078.8139
SEQUENCE:3
DTSTAMP:20260421T134130Z
URL:http://memberzone.usasean.org/events/details/data-governance-sub-committee-meeting-feb-20-2020-8139
END:VEVENT

END:VCALENDAR
