BEGIN:VCALENDAR
VERSION:2.0
PRODID:-//ChamberMaster//Event Calendar 2.0//EN
METHOD:PUBLISH
X-PUBLISHED-TTL:P3D
REFRESH-INTERVAL:P3D
CALSCALE:GREGORIAN
BEGIN:VEVENT
DTSTART:20211214T010000Z
DTEND:20211214T020000Z
X-MICROSOFT-CDO-ALLDAYEVENT:FALSE
SUMMARY:Cybersecurity Working Group Q4 Call
DESCRIPTION:Cybersecurity Working Group Q4 2021 Call
X-ALT-DESC;FMTTYPE=text/html:Cybersecurity Working Group Q4 2021 Call&nbsp\;
LOCATION:Virtual\, WebEx
UID:e.9078.8647
SEQUENCE:3
DTSTAMP:20260423T013436Z
URL:http://memberzone.usasean.org/events/details/cybersecurity-working-group-q4-call-8647
END:VEVENT

END:VCALENDAR
