BEGIN:VCALENDAR
VERSION:2.0
PRODID:-//ChamberMaster//Event Calendar 2.0//EN
METHOD:PUBLISH
X-PUBLISHED-TTL:P3D
REFRESH-INTERVAL:P3D
CALSCALE:GREGORIAN
BEGIN:VEVENT
DTSTART:20130205T020000Z
DTEND:20130205T030000Z
X-MICROSOFT-CDO-ALLDAYEVENT:FALSE
SUMMARY:Customs Working Group Conference Call
DESCRIPTION:
X-ALT-DESC;FMTTYPE=text/html:
LOCATION:Toll-free dial-in number (U.S. and Canada): +1 (877) 505-1427 International dial-in number: +1 (281) 319-9194 Conference code: 7071865271
UID:e.9078.695
SEQUENCE:3
DTSTAMP:20260422T094022Z
URL:http://memberzone.usasean.org/events/details/customs-working-group-conference-call-02-04-2013-695
END:VEVENT

END:VCALENDAR
