BEGIN:VCALENDAR
VERSION:2.0
PRODID:-//ChamberMaster//Event Calendar 2.0//EN
METHOD:PUBLISH
X-PUBLISHED-TTL:P3D
REFRESH-INTERVAL:P3D
CALSCALE:GREGORIAN
BEGIN:VEVENT
DTSTART:20150312T013000Z
DTEND:20150312T023000Z
X-MICROSOFT-CDO-ALLDAYEVENT:FALSE
SUMMARY:Customs Committee Conference Call (2015)
DESCRIPTION:Please join us to discuss the Customs Committee's programs\, priorities\, and messaging for 2015.
X-ALT-DESC;FMTTYPE=text/html:Please join us to discuss the Customs Committee&#39\;s programs\, priorities\, and messaging for 2015.
LOCATION:Conference Call
UID:e.9078.1491
SEQUENCE:3
DTSTAMP:20260419T185438Z
URL:http://memberzone.usasean.org/events/details/customs-committee-conference-call-2015-03-11-2015-1491
END:VEVENT

END:VCALENDAR
