BEGIN:VCALENDAR
VERSION:2.0
PRODID:-//ChamberMaster//Event Calendar 2.0//EN
METHOD:PUBLISH
X-PUBLISHED-TTL:P3D
REFRESH-INTERVAL:P3D
CALSCALE:GREGORIAN
BEGIN:VEVENT
DTSTART:20210527T020000Z
DTEND:20210527T030000Z
X-MICROSOFT-CDO-ALLDAYEVENT:FALSE
SUMMARY:Customs Business Mission Planning Call #2
DESCRIPTION:
X-ALT-DESC;FMTTYPE=text/html:
LOCATION:
UID:e.9078.8466
SEQUENCE:3
DTSTAMP:20260419T210238Z
URL:http://memberzone.usasean.org/events/details/customs-business-mission-planning-call-2-8466
END:VEVENT

END:VCALENDAR
