BEGIN:VCALENDAR
VERSION:2.0
PRODID:-//ChamberMaster//Event Calendar 2.0//EN
METHOD:PUBLISH
X-PUBLISHED-TTL:P3D
REFRESH-INTERVAL:P3D
CALSCALE:GREGORIAN
BEGIN:VEVENT
DTSTART:20130717T110000Z
DTEND:20130717T120000Z
X-MICROSOFT-CDO-ALLDAYEVENT:FALSE
SUMMARY:Customs and Trade Facilitation Committee Conference Call
DESCRIPTION:Customs and Trade Facilitation Committee Conference Call
X-ALT-DESC;FMTTYPE=text/html:Customs and Trade Facilitation Committee Conference Call
LOCATION:
UID:e.9078.868
SEQUENCE:3
DTSTAMP:20260421T204505Z
URL:http://memberzone.usasean.org/events/details/customs-and-trade-facilitation-committee-conference-call-07-17-2013-868
END:VEVENT

END:VCALENDAR
