BEGIN:VCALENDAR
VERSION:2.0
PRODID:-//ChamberMaster//Event Calendar 2.0//EN
METHOD:PUBLISH
X-PUBLISHED-TTL:P3D
REFRESH-INTERVAL:P3D
CALSCALE:GREGORIAN
BEGIN:VEVENT
DTSTART:20210806T010000Z
DTEND:20210806T150000Z
X-MICROSOFT-CDO-ALLDAYEVENT:FALSE
SUMMARY:CREATEing Investment Opportunities in the Philippines: A Webinar on CREATE Act
DESCRIPTION:
X-ALT-DESC;FMTTYPE=text/html:
LOCATION:
UID:e.9078.8525
SEQUENCE:3
DTSTAMP:20260419T155906Z
URL:http://memberzone.usasean.org/events/details/createing-investment-opportunities-in-the-philippines-a-webinar-on-create-act-8525
END:VEVENT

END:VCALENDAR
