BEGIN:VCALENDAR
VERSION:2.0
PRODID:-//ChamberMaster//Event Calendar 2.0//EN
METHOD:PUBLISH
X-PUBLISHED-TTL:P3D
REFRESH-INTERVAL:P3D
CALSCALE:GREGORIAN
BEGIN:VEVENT
DTSTART:20210713T020000Z
DTEND:20210713T033000Z
X-MICROSOFT-CDO-ALLDAYEVENT:FALSE
SUMMARY:COVID-19 Task Force Recovering Sustainably Roundtable
DESCRIPTION:Roundtable on recovering sustainably
X-ALT-DESC;FMTTYPE=text/html:Roundtable on recovering sustainably
LOCATION:Zoom details provided to registered participants
UID:e.9078.8504
SEQUENCE:3
DTSTAMP:20260424T231549Z
URL:http://memberzone.usasean.org/events/details/covid-19-task-force-recovering-sustainably-roundtable-8504
END:VEVENT

END:VCALENDAR
