BEGIN:VCALENDAR
VERSION:2.0
PRODID:-//ChamberMaster//Event Calendar 2.0//EN
METHOD:PUBLISH
X-PUBLISHED-TTL:P3D
REFRESH-INTERVAL:P3D
CALSCALE:GREGORIAN
BEGIN:VEVENT
DTSTART:20201215T020000Z
DTEND:20201215T033000Z
X-MICROSOFT-CDO-ALLDAYEVENT:FALSE
SUMMARY:COVID-19 Economic Recovery Task Force Year End Meeting
DESCRIPTION:Year end meeting of the COVID-19 Economic Recovery Task Force.
X-ALT-DESC;FMTTYPE=text/html:Year end meeting of the COVID-19 Economic Recovery Task Force.&nbsp\;
LOCATION:
UID:e.9078.8353
SEQUENCE:3
DTSTAMP:20260420T064138Z
URL:http://memberzone.usasean.org/events/details/covid-19-economic-recovery-task-force-year-end-meeting-8353
END:VEVENT

END:VCALENDAR
