BEGIN:VCALENDAR
VERSION:2.0
PRODID:-//ChamberMaster//Event Calendar 2.0//EN
METHOD:PUBLISH
X-PUBLISHED-TTL:P3D
REFRESH-INTERVAL:P3D
CALSCALE:GREGORIAN
BEGIN:VEVENT
DTSTART:20141216T183000Z
DTEND:20141216T200000Z
X-MICROSOFT-CDO-ALLDAYEVENT:FALSE
SUMMARY:Consultation on Intellectual property rights system of Thailand
DESCRIPTION:Recently appointed Director General Khun Malee Choklumlerd of the Department of Intellectual Property will host a consultation between Thai law enforcement agencies and US representatives\, on the latest development of protection and enforcement of intellectual property rights system of Thailand. The purpose of the meeting is to strengthen dialogue and cooperation among stakeholders on the protection and enforcement of intellectual property rights in Thailand.
X-ALT-DESC;FMTTYPE=text/html:Recently appointed Director General Khun Malee Choklumlerd of the Department of Intellectual Property will host a consultation between Thai law enforcement agencies and US representatives\, on the latest development of protection and enforcement of intellectual property rights system of Thailand. The purpose of the meeting is to strengthen dialogue and cooperation among stakeholders on the protection and enforcement of intellectual property rights in Thailand.
LOCATION:The office of Permanent Secretary Ministry of Commerce 44/100 Nonthaburi 1 Road Nonthaburi 11000
UID:e.9078.1309
SEQUENCE:3
DTSTAMP:20260419T235601Z
URL:http://memberzone.usasean.org/events/details/consultation-on-intellectual-property-rights-system-of-thailand-12-16-2014-1309
END:VEVENT

END:VCALENDAR
