BEGIN:VCALENDAR
VERSION:2.0
PRODID:-//ChamberMaster//Event Calendar 2.0//EN
METHOD:PUBLISH
X-PUBLISHED-TTL:P3D
REFRESH-INTERVAL:P3D
CALSCALE:GREGORIAN
BEGIN:VEVENT
DTSTART;VALUE=DATE:20130818
DTEND;VALUE=DATE:20130821
TRANSP:TRANSPARENT
X-MICROSOFT-CDO-ALLDAYEVENT:TRUE
SUMMARY:Congress of Indonesian Diaspora
DESCRIPTION:The Congress of Indonesia Diaspora is an event that aims to inspire Indonesian diaspora communities to connect and to unite into one big community and create a tangible force in order to achieve a better Indonesia. The event also aims to foster and implement concrete initiatives to empower Indonesian communities worldwide. \n\n\n\nFor more information please visit the Diaspora Indonesia website.
X-ALT-DESC;FMTTYPE=text/html:The Congress of Indonesia Diaspora is an event that aims to inspire Indonesian diaspora communities to connect and to unite into one big community and create a tangible force in order to achieve a better Indonesia. The event also aims to foster and implement concrete initiatives to empower Indonesian communities worldwide.&nbsp\;<br />\n<br />\nFor more information please visit the <a href="http://www.diasporaindonesia.org/program.htm">Diaspora Indonesia website</a>.&nbsp\;
LOCATION:Jakarta Convention Center Jakarta\, Indonesia
UID:e.9078.878
SEQUENCE:3
DTSTAMP:20260421T185900Z
URL:http://memberzone.usasean.org/events/details/congress-of-indonesian-diaspora-08-18-2013-878
END:VEVENT

END:VCALENDAR
