BEGIN:VCALENDAR
VERSION:2.0
PRODID:-//ChamberMaster//Event Calendar 2.0//EN
METHOD:PUBLISH
X-PUBLISHED-TTL:P3D
REFRESH-INTERVAL:P3D
CALSCALE:GREGORIAN
BEGIN:VEVENT
DTSTART:20140204T140000Z
DTEND:20140204T150000Z
X-MICROSOFT-CDO-ALLDAYEVENT:FALSE
SUMMARY:Conference Call with U.S. Ambassador to Indonesia\, the Honorable Robert Blake
DESCRIPTION:Indonesia Business Outlook for 2014\n\n\n\nPlease join us for a discussion with Ambassador Robert Blake on the Business Outlook for Indonesia in 2014.\n\n\n\nWith the upcoming general elections and a changing internal and external economic environment\, 2014 could be a pivotal year for Indonesia and its economy.  Ambassador Robert Blake will share his insights about the current business climate in Indonesia and opportunities for U.S. businesses. He will also discuss how this year's elections are expected to impact the economy and investment environment.\n\n \n\nAmbassador Blake's Bio
X-ALT-DESC;FMTTYPE=text/html:<span style="font-family: tahoma\,sans-serif\;"><span style="font-size: 12pt\;">Indonesia Business Outlook for 2014</span></span><br />\n<br />\n<span style="font-family: tahoma\,sans-serif\;"><span style="font-size: 12pt\;">Please join us for a discussion with Ambassador Robert Blake on the Business Outlook for Indonesia in 2014.<br />\n<br />\nWith the upcoming general elections and a changing internal and external economic environment\, 2014 could be a pivotal year for Indonesia and its economy.&nbsp\; Ambassador Robert Blake will share his insights about the current business climate in Indonesia and opportunities for U.S. businesses. He will also discuss how this year&rsquo\;s elections are expected to impact the economy and investment environment.</span></span><br />\n&nbsp\;<br />\n<span style="font-family: tahoma\, sans-serif\;"><span style="font-size: 12pt\;"><a href="http://jakarta.usembassy.gov/about-us/ambassador.html">Ambassador Blake&rsquo\;s Bio</a></span></span><br />\n<br />\n
LOCATION:Conference Call details to follow once registration is confirmed.
UID:e.9078.1015
SEQUENCE:3
DTSTAMP:20260421T042528Z
URL:http://memberzone.usasean.org/events/details/conference-call-with-u-s-ambassador-to-indonesia-the-honorable-robert-blake-02-04-2014-1015
END:VEVENT

END:VCALENDAR
