BEGIN:VCALENDAR
VERSION:2.0
PRODID:-//ChamberMaster//Event Calendar 2.0//EN
METHOD:PUBLISH
X-PUBLISHED-TTL:P3D
REFRESH-INTERVAL:P3D
CALSCALE:GREGORIAN
BEGIN:VEVENT
DTSTART:20140604T013000Z
DTEND:20140604T023000Z
X-MICROSOFT-CDO-ALLDAYEVENT:FALSE
SUMMARY:Conference call with ASEAN Capital Markets Forum Chairman Mr. Lee Boon Ngiap
DESCRIPTION:Dear Financial Services Committee members\,\n\n\n\nMr. Lee Boon Ngiap\, Chairman of the ASEAN Capital Markets Forum (ACMF) and Monetary Authority of Singapore has kindly agreed to join us for an hour-long discussion on topics including\, but not limited to: The ACMF's priorities for 2014/15\, views of US-ABC members on the ASEAN regional capital markets development agenda\, progress on the Collective Investment Scheme\, the ASEAN Exchanges Initiative\, high-frequency trading in ASEAN and regional derivatives markets.  The Council also views the call as an opportunity to position interested members of the Financial Services Committee to engage the ACMF at their annual meeting on October 10-11 in Kuala Lumpur.\n\n\n\nA bio for Chairman Lee can be found  here and more information on the ASEAN Capital Markets Forum can be found here.
X-ALT-DESC;FMTTYPE=text/html:<p><span style="font-size:16px\;"><span style="font-family:arial\;">Dear Financial Services Committee members\,</span></span><br />\n<br />\n<span style="font-family:arial\,sans-serif\;"><span style="font-size:12.0pt\;"><span style="font-size:16px\;"><span style="font-family:arial\;">Mr. Lee Boon Ngiap\, Chairman of the ASEAN Capital Markets Forum (ACMF) and Monetary Authority of Singapore has kindly agreed to join us for an hour-long discussion on topics including\, but not limited to:&nbsp\;The ACMF&#39\;s priorities for 2014/15\, views of US-ABC members on the ASEAN regional capital markets development agenda\, progress on the Collective Investment Scheme\, the ASEAN Exchanges Initiative\, high-frequency trading in ASEAN and regional derivatives markets. &nbsp\;The Council also views the call as an opportunity to position interested members of the Financial Services Committee to engage the ACMF at their annual meeting on October 10-11 in Kuala Lumpur.<br />\n<br />\nA bio for Chairman Lee can be found &nbsp\;</span></span><a href="http://cloud.chambermaster.com/userfiles/UserFiles/chambers/9078/File/ChairmanLeeBoongNgiapbio.pdf"><span style="font-size:16px\;"><span style="font-family:arial\;">h</span></span>ere</a>&nbsp\;and more information on the ASEAN Capital Markets Forum can be found <a href="http://www.theacmf.org/ACMF/index.php">here</a>.</span></span></p>\n
LOCATION:
UID:e.9078.1152
SEQUENCE:3
DTSTAMP:20260420T103706Z
URL:http://memberzone.usasean.org/events/details/conference-call-with-asean-capital-markets-forum-chairman-mr-lee-boon-ngiap-06-03-2014-1152
END:VEVENT

END:VCALENDAR
