BEGIN:VCALENDAR
VERSION:2.0
PRODID:-//ChamberMaster//Event Calendar 2.0//EN
METHOD:PUBLISH
X-PUBLISHED-TTL:P3D
REFRESH-INTERVAL:P3D
CALSCALE:GREGORIAN
BEGIN:VEVENT
DTSTART:20150129T023000Z
DTEND:20150129T033000Z
X-MICROSOFT-CDO-ALLDAYEVENT:FALSE
SUMMARY:Conference Call with Ambassador Nina Hachigian
DESCRIPTION:Conference Call with Ambassador Hachigian
X-ALT-DESC;FMTTYPE=text/html:Conference Call with Ambassador Hachigian
LOCATION:
UID:e.9078.1357
SEQUENCE:3
DTSTAMP:20260419T222114Z
URL:http://memberzone.usasean.org/events/details/conference-call-with-ambassador-nina-hachigian-01-28-2015-1357
END:VEVENT

END:VCALENDAR
