BEGIN:VCALENDAR
VERSION:2.0
PRODID:-//ChamberMaster//Event Calendar 2.0//EN
METHOD:PUBLISH
X-PUBLISHED-TTL:P3D
REFRESH-INTERVAL:P3D
CALSCALE:GREGORIAN
BEGIN:VEVENT
DTSTART:20150108T003000Z
DTEND:20150108T013000Z
X-MICROSOFT-CDO-ALLDAYEVENT:FALSE
SUMMARY:Conference Call with Ambassador Joseph Y. Yun\, U.S. Ambassador to Malaysia
DESCRIPTION:Please join us for a conference call with the Honorable Joseph Y. Yun\, U.S. Ambassador to Malaysia. \n\n \n\nJoseph Y. Yun\n\nU.S. Ambassador to Malaysia\n\n\n\nAmbassador Joseph Y. Yun was nominated by President Obama on July 23\, 2013\, and confirmed by the full Senate on August 1\, 2013\, to be the United States Ambassador to Malaysia.  \n\n\n\nAmbassador Yun most recently served as the Principal Deputy Assistant Secretary in the Bureau of East Asian and Pacific Affairs as well as the Deputy Assistant Secretary in the Bureau of East Asian and Pacific Affairs.  Mr. Yun's overseas postings include the Republic of Korea\, Thailand\, France\, Indonesia and Hong Kong. \n\n\n\nAmbassador Yun joined the Foreign Service in 1985. He is a career member of the Senior Foreign Service\, class of Minister-Counselor.  Before joining the Foreign Service\, Ambassador Yun was a senior economist for Data Resources\, Inc.\, in Lexington\, Massachusetts.  Ambassador Yun holds degrees from both the London School of Economics and the University of Wales.  He is married to Dr. Melanie Billings-Yun. They have one son.
X-ALT-DESC;FMTTYPE=text/html:<br />\n<span style="font-family:arial\,sans-serif\;"><span style="font-size:12.0pt\;">Please join us for a conference call with the Honorable Joseph Y. Yun\, U.S. Ambassador to Malaysia.&nbsp\;</span></span>\n\n<div>&nbsp\;</div>\n\n<hr /><strong style="font-family: arial\, sans-serif\; font-size: 16px\; line-height: 25.600000381469727px\;">Joseph Y. Yun</strong><br style="font-family: arial\, sans-serif\; font-size: 16px\; line-height: 25.600000381469727px\;" />\n<strong style="font-family: arial\, sans-serif\; font-size: 16px\; line-height: 25.600000381469727px\;"><strong>U.S. Ambassador to Malaysia</strong></strong><br style="font-family: arial\, sans-serif\; font-size: 16px\; line-height: 25.600000381469727px\;" />\n<br style="font-family: arial\, sans-serif\; font-size: 16px\; line-height: 25.600000381469727px\;" />\n<span style="font-family: arial\, sans-serif\; font-size: 16px\; line-height: 25.600000381469727px\;">Ambassador Joseph Y. Yun was nominated by President Obama on July 23\, 2013\, and confirmed by the full Senate on August 1\, 2013\, to be the United States Ambassador to Malaysia.&nbsp\;&nbsp\;</span><br style="font-family: arial\, sans-serif\; font-size: 16px\; line-height: 25.600000381469727px\;" />\n<br style="font-family: arial\, sans-serif\; font-size: 16px\; line-height: 25.600000381469727px\;" />\n<span style="font-family: arial\, sans-serif\; font-size: 16px\; line-height: 25.600000381469727px\;">Ambassador Yun most recently served as the Principal Deputy Assistant Secretary in the Bureau of East Asian and Pacific Affairs as well as the Deputy Assistant Secretary in the Bureau of East Asian and Pacific Affairs.&nbsp\; Mr. Yun&rsquo\;s overseas postings include the Republic of Korea\, Thailand\, France\, Indonesia and Hong Kong.&nbsp\;</span><br style="font-family: arial\, sans-serif\; font-size: 16px\; line-height: 25.600000381469727px\;" />\n<br style="font-family: arial\, sans-serif\; font-size: 16px\; line-height: 25.600000381469727px\;" />\n<span style="font-family: arial\, sans-serif\; font-size: 16px\; line-height: 25.600000381469727px\;">Ambassador Yun joined the Foreign Service in 1985. He is a career member of the Senior Foreign Service\, class of Minister-Counselor.&nbsp\; Before joining the Foreign Service\, Ambassador Yun was a senior economist for Data Resources\, Inc.\, in Lexington\, Massachusetts.&nbsp\; Ambassador Yun holds degrees from both the London School of Economics and the University of Wales.&nbsp\; He is married to Dr. Melanie Billings-Yun. They have one son.</span>
LOCATION:Conference Call
UID:e.9078.1330
SEQUENCE:3
DTSTAMP:20260419T222221Z
URL:http://memberzone.usasean.org/events/details/conference-call-with-ambassador-joseph-y-yun-u-s-ambassador-to-malaysia-01-07-2015-1330
END:VEVENT

END:VCALENDAR
