BEGIN:VCALENDAR
VERSION:2.0
PRODID:-//ChamberMaster//Event Calendar 2.0//EN
METHOD:PUBLISH
X-PUBLISHED-TTL:P3D
REFRESH-INTERVAL:P3D
CALSCALE:GREGORIAN
BEGIN:VEVENT
DTSTART:20140228T010000Z
DTEND:20140228T020000Z
X-MICROSOFT-CDO-ALLDAYEVENT:FALSE
SUMMARY:Conference Call to Discuss the 2014 ASEAN Finance Ministers' Meeting Business Mission
DESCRIPTION:Conference Call to Discuss the 2014 ASEAN Finance Ministers' Meeting Business Mission
X-ALT-DESC;FMTTYPE=text/html:<span style="font-size:14px\;"><span style="font-family:arial\;"><span style="letter-spacing: 0.75pt\;">Conference Call to Discuss the 2014 ASEAN Finance Ministers&#39\; Meeting Business Mission</span></span></span>
LOCATION:
UID:e.9078.1060
SEQUENCE:3
DTSTAMP:20260421T042522Z
URL:http://memberzone.usasean.org/events/details/conference-call-to-discuss-the-2014-asean-finance-ministers-meeting-business-mission-02-27-2014-1060
END:VEVENT

END:VCALENDAR
