BEGIN:VCALENDAR
VERSION:2.0
PRODID:-//ChamberMaster//Event Calendar 2.0//EN
METHOD:PUBLISH
X-PUBLISHED-TTL:P3D
REFRESH-INTERVAL:P3D
CALSCALE:GREGORIAN
BEGIN:VEVENT
DTSTART:20130607T013000Z
DTEND:20130607T023000Z
X-MICROSOFT-CDO-ALLDAYEVENT:FALSE
SUMMARY:Conference Call Briefing with DCM Murray
DESCRIPTION:Conference call with DCM Virginia Murray of Embassy Rangoon
X-ALT-DESC;FMTTYPE=text/html:Conference call with DCM Virginia Murray of Embassy Rangoon
LOCATION:Toll-free dial-in number (U.S. and Canada): (877) 505-1427 International dial-in number: (281) 319-9194 Conference code: 1029261120
UID:e.9078.798
SEQUENCE:3
DTSTAMP:20260421T224539Z
URL:http://memberzone.usasean.org/events/details/conference-call-briefing-with-dcm-murray-06-06-2013-798
END:VEVENT

END:VCALENDAR
