BEGIN:VCALENDAR
VERSION:2.0
PRODID:-//ChamberMaster//Event Calendar 2.0//EN
METHOD:PUBLISH
X-PUBLISHED-TTL:P3D
REFRESH-INTERVAL:P3D
CALSCALE:GREGORIAN
BEGIN:VEVENT
DTSTART:20150311T130000Z
DTEND:20150311T140000Z
X-MICROSOFT-CDO-ALLDAYEVENT:FALSE
SUMMARY:Coffee Discussion with Ambassador Vinh
DESCRIPTION:Please join us for a coffee discussion with Ambassador Vinh.   Participants will hear a Vietnam update from Ambassador Vinh and have a chance to exchange perspectives on trade and investment opportunities in Vietnam.  This discussion will be an excellent scene setter for the Council's 2015 Vietnam Business Mission taking place Monday\, March 16 - Wednesday\, March 18.
X-ALT-DESC;FMTTYPE=text/html:Please join us for a coffee discussion with Ambassador Vinh.&nbsp\;&nbsp\; Participants will hear a Vietnam update from Ambassador Vinh and have a chance to exchange perspectives on trade and investment opportunities in Vietnam.&nbsp\; This discussion will be an excellent scene setter for the Council&#39\;s 2015 Vietnam Business Mission taking place Monday\, March 16 - Wednesday\, March 18.
LOCATION:US-ASEAN Business Council 1101 17th Street\, NW Suite 411 Washington\, DC 20036
UID:e.9078.1500
SEQUENCE:3
DTSTAMP:20260419T203234Z
URL:http://memberzone.usasean.org/events/details/coffee-discussion-with-ambassador-vinh-03-11-2015-1500
END:VEVENT

END:VCALENDAR
