BEGIN:VCALENDAR
VERSION:2.0
PRODID:-//ChamberMaster//Event Calendar 2.0//EN
METHOD:PUBLISH
X-PUBLISHED-TTL:P3D
REFRESH-INTERVAL:P3D
CALSCALE:GREGORIAN
BEGIN:VEVENT
DTSTART:20130611T130000Z
DTEND:20130611T143000Z
X-MICROSOFT-CDO-ALLDAYEVENT:FALSE
SUMMARY:Coffee Discussion with Ambassador Cuisia
DESCRIPTION:The US-ASEAN Business Council is pleased to invite you to Q2 members coffee discussion with Ambassador of the Philippines to the United States H.E. Jose L. Cuisia Jr.\, and his  Economic Team. This discussion serves as an excellent opportunity for the Ambassador and his economic officers to familiarize themselves with Council members and company business interests in the Philippines.  Additionally\, members can expect updates on the the recent elections in the Philippines\, the Philippine economy\, the South China Sea and legislative priorities.
X-ALT-DESC;FMTTYPE=text/html:<span style="font-family:arial\;"><span style="font-size: 16px\;"><span style="color: rgb(51\, 51\, 51)\;">The US-ASEAN Business Council is pleased to invite you to Q2 members coffee discussion with Ambassador of the Philippines to the United States <a href="http://www.philippineembassy-usa.org/philippines-dc/embassy-dc/the-ambassador-dc/ambassadors-bio-dc/">H.E. Jose L. Cuisia Jr</a>.\, and his&nbsp\; Economic Team. </span>This discussion serves <span style="color: rgb(51\, 51\, 51)\;">as an excellent opportunity for the Ambassador and his economic officers to familiarize themselves with Council members and company business interests in the Philippines. &nbsp\;Additionally\, members can expect updates on the the recent elections in the Philippines\, the Philippine economy\, the South China Sea and legislative priorities.</span></span></span>
LOCATION:US-ASEAN Business Council 1101 17th Street\, NW Suite 411 Washington\, DC
UID:e.9078.787
SEQUENCE:3
DTSTAMP:20260421T222633Z
URL:http://memberzone.usasean.org/events/details/coffee-discussion-with-ambassador-cuisia-06-11-2013-787
END:VEVENT

END:VCALENDAR
