BEGIN:VCALENDAR
VERSION:2.0
PRODID:-//ChamberMaster//Event Calendar 2.0//EN
METHOD:PUBLISH
X-PUBLISHED-TTL:P3D
REFRESH-INTERVAL:P3D
CALSCALE:GREGORIAN
BEGIN:VEVENT
DTSTART:20150323T130000Z
DTEND:20150323T140000Z
X-MICROSOFT-CDO-ALLDAYEVENT:FALSE
SUMMARY:Coffee Discussion on Engaging the ASEAN Agricultural Attachés
DESCRIPTION:The US-ASEAN Business Council is pleased to invite you to a members coffee discussion in preparation for the ASEAN Agricultural Attach  Roundtable on June 3. This planning discussion will focus on how to maximize our engagement with the ASEAN Agricultural Attach s. This discussion will focus on topics to be addressed\, ways to support the attach s and potential outcomes of the regular engagement.\n\n\n\nThere will be a call-in option to meet the needs of both members in the US as well as in the region. \n\n\n\nFor questions please contact Hai Pham at hpham@usasean.org
X-ALT-DESC;FMTTYPE=text/html:<br />\n<span style="font-family:calibri\,sans-serif\;"><span style="font-size:11.0pt\;">The US-ASEAN Business Council is pleased to invite you to a members coffee discussion in preparation for the ASEAN Agricultural Attach&eacute\;&nbsp\;Roundtable on June 3. This planning discussion will focus on how to maximize our engagement with the ASEAN Agricultural Attach&eacute\;s. This discussion will focus on topics to be addressed\, ways to support the attach&eacute\;s&nbsp\;and potential outcomes of the regular engagement.<br />\n<br />\nThere will be a call-in option to meet the needs of both members in the US as well as in the region.&nbsp\;</span></span><br />\n<br />\n<span style="font-size:12px\;"><span style="font-weight: 700\; bottom: auto\; box-sizing: content-box\; clear: none\; color: rgb(68\, 68\, 68)\; content: normal\; direction: inherit\; empty-cells: show\; font-family: Arial\, Helvetica\, sans-serif\; font-stretch: inherit\; left: auto\; line-height: 18.2000007629395px\; margin: 0px\; max-height: none\; max-width: none\; min-height: initial\; min-width: initial\; opacity: 1\; outline: invert none medium\; outline-offset: 0px\; overflow: visible\; padding: 0px\; position: static\; resize: none\; right: auto\; table-layout: auto\; text-overflow: clip\; top: auto\; vertical-align: baseline\; visibility: inherit\; word-break: inherit\; word-wrap: inherit\; z-index: auto\; border: none\; border-collapse: separate\; border-image-source: none\; border-image-slice: 100% 1 0\; border-image-repeat: stretch\; border-radius: 0px\; height: auto\; width: auto\; box-shadow: none\; background-image: none\; background-attachment: initial\; background-size: initial\; background-origin: initial\; background-clip: initial\; background-position: initial\; background-repeat: initial\;">For questions please contact Hai Pham at hpham@usasean.org</span></span>
LOCATION:US-ASEAN Business Council 1101 17th Street\, NW Suite 411 Washington\, DC
UID:e.9078.1509
SEQUENCE:3
DTSTAMP:20260419T185553Z
URL:http://memberzone.usasean.org/events/details/coffee-discussion-on-engaging-the-asean-agricultural-attach&#233;s-03-23-2015-1509
END:VEVENT

END:VCALENDAR
