BEGIN:VCALENDAR
VERSION:2.0
PRODID:-//ChamberMaster//Event Calendar 2.0//EN
METHOD:PUBLISH
X-PUBLISHED-TTL:P3D
REFRESH-INTERVAL:P3D
CALSCALE:GREGORIAN
BEGIN:VEVENT
DTSTART:20130821T110000Z
DTEND:20130821T123000Z
X-MICROSOFT-CDO-ALLDAYEVENT:FALSE
SUMMARY:CODEL Breakfast with Chairman Ed Royce
DESCRIPTION:The Council is pleased to invite you to a breakfast discussion with a visiting Congressional Delegation led by Congressman Ed Royce (Click bio). The delegation is particularly interested in Foreign Affairs\, Finance and Infrastructure.\n\n\n\nHosted by AIG with 20 Participants
X-ALT-DESC;FMTTYPE=text/html:The Council is pleased to invite you to a breakfast discussion with a visiting Congressional Delegation led by Congressman Ed Royce (Click <a href="http://foreignaffairs.house.gov/about/chair">bio</a>). The delegation is particularly interested in Foreign Affairs\, Finance and Infrastructure.<br />\n<br />\nHosted by AIG with 20 Participants
LOCATION:New York Room\, Conrad Hotel\, Wireless Road Bangkok \, Thailand
UID:e.9078.909
SEQUENCE:3
DTSTAMP:20260421T185505Z
URL:http://memberzone.usasean.org/events/details/codel-breakfast-with-chairman-ed-royce-08-21-2013-909
END:VEVENT

END:VCALENDAR
