BEGIN:VCALENDAR
VERSION:2.0
PRODID:-//ChamberMaster//Event Calendar 2.0//EN
METHOD:PUBLISH
X-PUBLISHED-TTL:P3D
REFRESH-INTERVAL:P3D
CALSCALE:GREGORIAN
BEGIN:VEVENT
DTSTART;VALUE=DATE:20111121
DTEND;VALUE=DATE:20111122
TRANSP:TRANSPARENT
X-MICROSOFT-CDO-ALLDAYEVENT:TRUE
SUMMARY:Chairman's Council Luncheon with Amb Scot Marciel\, Nov 21\, Jakarta - Nov 21 2011
DESCRIPTION:
X-ALT-DESC;FMTTYPE=text/html:
LOCATION:
UID:e.9078.355
SEQUENCE:3
DTSTAMP:20260425T234936Z
URL:http://memberzone.usasean.org/events/details/chairman-s-council-luncheon-with-amb-scot-marciel-nov-21-jakarta-nov-21-2011-11-21-2011-355
END:VEVENT

END:VCALENDAR
