BEGIN:VCALENDAR
VERSION:2.0
PRODID:-//ChamberMaster//Event Calendar 2.0//EN
METHOD:PUBLISH
X-PUBLISHED-TTL:P3D
REFRESH-INTERVAL:P3D
CALSCALE:GREGORIAN
BEGIN:VEVENT
DTSTART;VALUE=DATE:20140601
DTEND;VALUE=DATE:20140605
TRANSP:TRANSPARENT
X-MICROSOFT-CDO-ALLDAYEVENT:TRUE
SUMMARY:CEO Business Mission - Vietnam and the Philippines
DESCRIPTION:
X-ALT-DESC;FMTTYPE=text/html:
LOCATION:
UID:e.9078.1119
SEQUENCE:3
DTSTAMP:20260420T103607Z
URL:http://memberzone.usasean.org/events/details/ceo-business-mission-vietnam-and-the-philippines-06-01-2014-1119
END:VEVENT

END:VCALENDAR
