BEGIN:VCALENDAR
VERSION:2.0
PRODID:-//ChamberMaster//Event Calendar 2.0//EN
METHOD:PUBLISH
X-PUBLISHED-TTL:P3D
REFRESH-INTERVAL:P3D
CALSCALE:GREGORIAN
BEGIN:VEVENT
DTSTART:20211130T150000Z
DTEND:20211130T160000Z
X-MICROSOFT-CDO-ALLDAYEVENT:FALSE
SUMMARY:CANCELED US-ABC Roundtable/Briefing with The Honorable Jonathan Kaplan\, United States Ambassador to Singapore
DESCRIPTION:CANCELED: The US-ASEAN Business Council invites members to join a roundtable/briefing with The Honorable Jonathan Kaplan\, United States Ambassador to Singapore.
X-ALT-DESC;FMTTYPE=text/html:CANCELED: The US-ASEAN Business Council invites members to join a roundtable/briefing with The Honorable Jonathan Kaplan\, United States Ambassador to Singapore.
LOCATION:This meeting is canceled. Venue: Hills Room\, 1101 17th St NW Suite 411\, Washington DC. Very limited slots available. This meeting will be held in a hybrid format: an in-person meeting at the Council offices with the opportunity for pre-registered members to dial in and join virtually. Confirmation via the registration link will be taken as confirmation for virtual attendance. Members who would like to participate in-person have to email Lilibeth Almonte-Arbez at lalmonte@usasean.org and in-person attendance will be subject to space availability and reconfirmation. The proposed agenda and dial-in information will be sent only to pre-registered members.
UID:e.9078.8652
SEQUENCE:3
DTSTAMP:20260419T124353Z
URL:http://memberzone.usasean.org/events/details/canceled-us-abc-roundtable-briefing-with-the-honorable-jonathan-kaplan-united-states-ambassador-to-singapore-8652
END:VEVENT

END:VCALENDAR
