BEGIN:VCALENDAR
VERSION:2.0
PRODID:-//ChamberMaster//Event Calendar 2.0//EN
METHOD:PUBLISH
X-PUBLISHED-TTL:P3D
REFRESH-INTERVAL:P3D
CALSCALE:GREGORIAN
BEGIN:VEVENT
DTSTART:20210225T190000Z
DTEND:20210225T200000Z
X-MICROSOFT-CDO-ALLDAYEVENT:FALSE
SUMMARY:Cambodia Roundtable with Mr. Benjamin Wohlauer\, Deputy Chief of Mission\, U.S. Embassy\, Phnom Penh
DESCRIPTION:
X-ALT-DESC;FMTTYPE=text/html:
LOCATION:
UID:e.9078.8402
SEQUENCE:3
DTSTAMP:20260420T020543Z
URL:http://memberzone.usasean.org/events/details/cambodia-roundtable-with-mr-benjamin-wohlauer-deputy-chief-of-mission-u-s-embassy-phnom-penh-8402
END:VEVENT

END:VCALENDAR
