BEGIN:VCALENDAR
VERSION:2.0
PRODID:-//ChamberMaster//Event Calendar 2.0//EN
METHOD:PUBLISH
X-PUBLISHED-TTL:P3D
REFRESH-INTERVAL:P3D
CALSCALE:GREGORIAN
BEGIN:VEVENT
DTSTART;VALUE=DATE:20130728
DTEND;VALUE=DATE:20130729
TRANSP:TRANSPARENT
X-MICROSOFT-CDO-ALLDAYEVENT:TRUE
SUMMARY:Cambodia National Assembly Elections
DESCRIPTION:
X-ALT-DESC;FMTTYPE=text/html:
LOCATION:
UID:e.9078.833
SEQUENCE:3
DTSTAMP:20260421T224758Z
URL:http://memberzone.usasean.org/events/details/cambodia-national-assembly-elections-07-28-2013-833
END:VEVENT

END:VCALENDAR
