BEGIN:VCALENDAR
VERSION:2.0
PRODID:-//ChamberMaster//Event Calendar 2.0//EN
METHOD:PUBLISH
X-PUBLISHED-TTL:P3D
REFRESH-INTERVAL:P3D
CALSCALE:GREGORIAN
BEGIN:VEVENT
DTSTART:20191021T130000Z
DTEND:20191021T143000Z
X-MICROSOFT-CDO-ALLDAYEVENT:FALSE
SUMMARY:Cambodia Business Roundtable
DESCRIPTION:The US-ASEAN Business Council\, US Chamber of Commerce\, and AmCham Cambodia invite you to a Cambodia Business Roundtable discussion on Monday\, October 21 from 9 - 10:30 AM at the Chamber. \n\n  \n\nThis important roundtable discussion will highlight the significant economic progress Cambodia has made over the last several decades\, as well as the wealth of business and foreign investment opportunities in the country today.  \n\n  \n\nPanelists representing the business community\, the U.S. government\, and others will discuss their experiences in Cambodia\, the country's commercial potential\, its importance to the United States\, and the significant presence that American companies already have there\, as well as some likely impacts from the U.S.-China trade conflict.  \n\n  \n\nSpeakers will include: \n\n\n	Allen Tan\, Chairman of the Board of AmCham Cambodia\n	Steven Path\, CEO of Pathmazing\n	Rithy Sear\, Chairman of World Bridge Group Ltd\n\n\nThe Cambodia Business Roundtable is open to members of the business community\, policymakers\, and other stakeholders in Washington\, DC. There is no fee to participate\, but registration is required.  To register\, click registration link here.\n\n \n\nIf you have any questions\, please contact Javiera Gallardo at jgallardo@uschamber.com or Micaela Arneson at marneson@bhfs.com.
X-ALT-DESC;FMTTYPE=text/html:<div>The US-ASEAN Business Council\, US Chamber of Commerce\, and AmCham Cambodia invite you to a Cambodia Business Roundtable discussion on Monday\, October 21 from 9 - 10:30 AM at the Chamber.&nbsp\;</div>\n\n<div>&nbsp\;&nbsp\;</div>\n\n<div>This important roundtable discussion will highlight the significant economic progress Cambodia has made over the last several decades\, as well as the wealth of business and foreign investment opportunities in the country today.&nbsp\;&nbsp\;</div>\n\n<div>&nbsp\;&nbsp\;</div>\n\n<div>Panelists representing the business community\, the U.S. government\, and others will discuss their experiences in Cambodia\, the country&rsquo\;s commercial potential\, its importance to the United States\, and the significant presence that American companies already have there\, as well as some likely impacts from the U.S.-China trade conflict.&nbsp\;&nbsp\;</div>\n\n<div>&nbsp\;&nbsp\;</div>\n\n<div><strong>Speakers will include:</strong>&nbsp\;</div>\n\n<ul>\n	<li>Allen Tan\, Chairman of the Board of AmCham Cambodia</li>\n	<li>Steven Path\, CEO of Pathmazing</li>\n	<li>Rithy Sear\, Chairman of World Bridge Group Ltd</li>\n</ul>\n\n<div>The Cambodia Business Roundtable is open to members of the business community\, policymakers\, and other stakeholders in Washington\, DC. There is no fee to participate\, but registration is required.&nbsp\; To register\, click registration link <a href="https://www.cvent.com/c/express/d612b854-5c21-48ae-b987-c5281d861bb5">here</a>.</div>\n\n<div>&nbsp\;</div>\n\n<div>If you have any questions\, please contact Javiera Gallardo at jgallardo@uschamber.com or Micaela Arneson at marneson@bhfs.com.</div>\n
LOCATION:U.S. Chamber of Commerce 1615 H Street\, NW Washington\, DC 20062
UID:e.9078.8049
SEQUENCE:3
DTSTAMP:20260424T212615Z
URL:http://memberzone.usasean.org/events/details/cambodia-business-roundtable-8049
END:VEVENT

END:VCALENDAR
