BEGIN:VCALENDAR
VERSION:2.0
PRODID:-//ChamberMaster//Event Calendar 2.0//EN
METHOD:PUBLISH
X-PUBLISHED-TTL:P3D
REFRESH-INTERVAL:P3D
CALSCALE:GREGORIAN
BEGIN:VEVENT
DTSTART:20190214T200000Z
DTEND:20190214T210000Z
X-MICROSOFT-CDO-ALLDAYEVENT:FALSE
SUMMARY:Call 1 to Discuss Manufacturing Committee 2019 Work Plan
DESCRIPTION:Please join us for our first calls to discuss a Manufacturing Committee 2019 Work Plan. Agenda outlined below:\n\n\n	Feedback & ideas on proposed themes and areas of focus.\n	Feedback & ideas on proposed activities and projects in 2019.\n	Feedback & ideas on information products and other resources.\n	Next steps: \n	\n		Confirming committee leadership\n		Call summary notes\n		Steps for creating recommendations (policy\, legal\, regulatory) for missions to the AEM\, ASEAN Secretariat\, and priority markets.
X-ALT-DESC;FMTTYPE=text/html:<div style="margin-left:0in\;">Please join us for our first calls to discuss a Manufacturing Committee 2019 Work Plan. Agenda outlined below:</div>\n\n<ol style="list-style-type:lower-alpha\;">\n	<li style="margin-left:0in\;"><span style="font-size:12.0pt\;">Feedback &amp\; ideas on proposed themes and areas of focus.</span></li>\n	<li style="margin-left:0in\;"><span style="font-size:12.0pt\;">Feedback &amp\; ideas on proposed activities and projects in 2019.</span></li>\n	<li style="margin-left:0in\;"><span style="font-size:12.0pt\;">Feedback &amp\; ideas on information products and other resources.</span></li>\n	<li style="margin-left:0in\;"><span style="font-size:12.0pt\;">Next steps: </span>\n	<ol style="list-style-type:lower-roman\;">\n		<li><span style="font-size:12.0pt\;">Confirming committee leadership</span></li>\n		<li><span style="font-size:12.0pt\;">Call summary notes</span></li>\n		<li><span style="font-size:12.0pt\;">Steps for creating recommendations (policy\, legal\, regulatory) for missions to the AEM\, ASEAN Secretariat\, and priority markets.</span></li>\n	</ol>\n	</li>\n</ol>\n
LOCATION:Conference Call
UID:e.9078.7801
SEQUENCE:3
DTSTAMP:20260426T023329Z
URL:http://memberzone.usasean.org/events/details/call-1-to-discuss-manufacturing-committee-2019-work-plan-7801
END:VEVENT

END:VCALENDAR
