BEGIN:VCALENDAR
VERSION:2.0
PRODID:-//ChamberMaster//Event Calendar 2.0//EN
METHOD:PUBLISH
X-PUBLISHED-TTL:P3D
REFRESH-INTERVAL:P3D
CALSCALE:GREGORIAN
BEGIN:VEVENT
DTSTART:20220920T220000Z
DTEND:20220921T003000Z
X-MICROSOFT-CDO-ALLDAYEVENT:FALSE
SUMMARY:Business Roundtable and Dinner in Honor of PHL President Marcos Jr.
DESCRIPTION:Business Dialogue and Dinner in honor of President Marcos Jr
X-ALT-DESC;FMTTYPE=text/html:Business Dialogue and Dinner in honor of President Marcos Jr&nbsp\;
LOCATION:New York City
UID:e.9078.8839
SEQUENCE:3
DTSTAMP:20260421T222933Z
URL:http://memberzone.usasean.org/events/details/business-roundtable-and-dinner-in-honor-of-phl-president-marcos-jr-8839
END:VEVENT

END:VCALENDAR
