BEGIN:VCALENDAR
VERSION:2.0
PRODID:-//ChamberMaster//Event Calendar 2.0//EN
METHOD:PUBLISH
X-PUBLISHED-TTL:P3D
REFRESH-INTERVAL:P3D
CALSCALE:GREGORIAN
BEGIN:VEVENT
DTSTART:20221202T023000Z
DTEND:20221202T040000Z
X-MICROSOFT-CDO-ALLDAYEVENT:FALSE
SUMMARY:Business Networking Session with Vietnam MPI
DESCRIPTION:Business Networking Session and Q&A with Vietnam MPI Minister Nguyen Chi Dzung.
X-ALT-DESC;FMTTYPE=text/html:Business Networking Session and Q&amp\;A with Vietnam MPI Minister Nguyen Chi Dzung.&nbsp\;
LOCATION:In person event.
UID:e.9078.8921
SEQUENCE:3
DTSTAMP:20260421T175219Z
URL:http://memberzone.usasean.org/events/details/business-networking-session-with-vietnam-mpi-8921
END:VEVENT

END:VCALENDAR
